BEGIN:VCALENDAR
VERSION:2.0
METHOD:PUBLISH
PRODID:-//Accessible Web Design//My Calendar//http://www.joedolson.com//v//EN';
BEGIN:VEVENT
UID:26-22
LOCATION:CAR DE SANT CUGAT
SUMMARY:CAMPIONAT D’ESPANYA CADET, JÚNIOR I SUB21
DTSTAMP:20231117T000000
ORGANIZER;CN=davidarinyooo@gmail.com:MAILTO:davidarinyooo@gmail.com
DTSTART:20231117T000000
DTEND:20231119T010000
CATEGORIES:Karate
URL;VALUE=URI:https://fckarate.es/es/mc-events/campionat-despanya-cadet-junior-i-sub21/?mc_id=26
DESCRIPTION:
END:VEVENT
END:VCALENDAR