BEGIN:VCALENDAR
VERSION:2.0
METHOD:PUBLISH
PRODID:-//Accessible Web Design//My Calendar//http://www.joedolson.com//v//EN';
BEGIN:VEVENT
UID:25-21
LOCATION:CAR DE SANT CUGAT
SUMMARY:FORMACIÓ I ACTUALITZACIÓ JUTGE TRIBUNAL DE GRAUS – TOTES LES DISCIPLINES-
DTSTAMP:20231111T000000
ORGANIZER;CN=davidarinyooo@gmail.com:MAILTO:davidarinyooo@gmail.com
DTSTART:20231111T000000
DTEND:20231111T010000
CATEGORIES:Karate
URL;VALUE=URI:https://fckarate.es/es/mc-events/formacio-i-actualitzacio-jutge-tribunal-de-graus-totes-les-disciplines/?mc_id=25
DESCRIPTION:
END:VEVENT
END:VCALENDAR