BEGIN:VCALENDAR
VERSION:2.0
METHOD:PUBLISH
PRODID:-//Accessible Web Design//My Calendar//http://www.joedolson.com//v//EN';
BEGIN:VEVENT
UID:78-72
LOCATION:Hotel Catalonia Plaza
SUMMARY:· Curs Mestre A. Congregado-Hotel Catalonia Plaza
DTSTAMP:20241116T093000
ORGANIZER;CN=davidarinyooo@gmail.com:MAILTO:davidarinyooo@gmail.com
DTSTART:20241116T093000
DTEND:20241116T130000
CATEGORIES:General
URL;VALUE=URI:https://fckarate.es/mc-events/·-curs-mestre-a-congregado-hotel-catalonia-plaza/?mc_id=78
DESCRIPTION:
END:VEVENT
END:VCALENDAR