BEGIN:VCALENDAR
VERSION:2.0
METHOD:PUBLISH
PRODID:-//Accessible Web Design//My Calendar//http://www.joedolson.com//v//EN';
BEGIN:VEVENT
UID:16-13
LOCATION:CAR DE SANT CUGAT
SUMMARY:ENTRENAMENT PRESELECCIÓ CADET, JÚNIOR, SUB21 I SÈNIOR (C.A.R.)
DTSTAMP:20230916
ORGANIZER;CN=davidarinyooo@gmail.com:MAILTO:davidarinyooo@gmail.com
DTSTART:20230916
DTEND:20230917
CATEGORIES:Karate
URL;VALUE=URI:https://fckarate.es/mc-events/entrenament-preseleccio-cadet-junior-sub21-i-senior-c-a-r/?mc_id=16
DESCRIPTION:
X-FUNAMBOL-ALLDAY: 1
X-MICROSOFT-CDO-ALLDAYEVENT: TRUE

END:VEVENT
END:VCALENDAR