BEGIN:VCALENDAR
VERSION:2.0
METHOD:PUBLISH
PRODID:-//Accessible Web Design//My Calendar//http://www.joedolson.com//v//EN';
BEGIN:VEVENT
UID:39-35
LOCATION:CAR DE SANT CUGAT
SUMMARY:PRESELECCIÓN CTO. ESPAÑA SENIOR
DTSTAMP:20240323T100000
ORGANIZER;CN=davidarinyooo@gmail.com:MAILTO:davidarinyooo@gmail.com
DTSTART:20240323T100000
DTEND:20240323T173000
CATEGORIES:General
URL;VALUE=URI:https://fckarate.es/mc-events/preseleccion-cto-espana-senior/?mc_id=39
DESCRIPTION:PRESELECCIÓN CTO. ESPAÑA SENIOR HORARIOS: 10:00 h. a 11.30 h. kata- De 11.45 a 13.15 kumite y De 16:00 H. a 17.30 kumite
END:VEVENT
END:VCALENDAR