BEGIN:VCALENDAR
VERSION:2.0
METHOD:PUBLISH
PRODID:-//Accessible Web Design//My Calendar//http://www.joedolson.com//v//EN';
BEGIN:VEVENT
UID:31-27
LOCATION:CAR DE SANT CUGAT
SUMMARY:CURS TÈCNIC IMPARTIT PEL MESTRE DEOGRACIAS MEDINA
DTSTAMP:20231216T000000
ORGANIZER;CN=davidarinyooo@gmail.com:MAILTO:davidarinyooo@gmail.com
DTSTART:20231216T000000
DTEND:20231216T010000
CATEGORIES:Karate
URL;VALUE=URI:https://fckarate.es/mc-events/curs-tecnic-impartit-pel-mestre-deogracias-medina/?mc_id=31
DESCRIPTION:
END:VEVENT
END:VCALENDAR